BEGIN:VCALENDAR
VERSION:2.0
PRODID:icalendar-ruby
CALSCALE:GREGORIAN
METHOD:PUBLISH
BEGIN:VEVENT
DTSTAMP:20260422T042433Z
UID:505-4252735@nacchurch.org
DTSTART:20260503T184500Z
DTEND:20260503T194500Z
CLASS:PUBLIC
CREATED:20260421T162820
DESCRIPTION:You’re Invited to a Sunday Community Lunch! \nJoin us for a s
 pecial Community Lunch featuring Eritrean food—a rich\, flavorful cuisin
 e meant to be shared and enjoyed together.\nEritrean meals are traditional
 ly served family-style\, bringing people together around the table. Come t
 aste something new\, enjoy fellowship\, and connect with friends old and n
 ew.\nA donation will be taken to help support the church’s budget expend
 itures. Your generosity is greatly appreciated.\nSpecial thanks to Agazit 
 and Fortuna for lovingly preparing this meal for our community.\nAll are w
 elcome—bring a friend and come hungry!
LAST-MODIFIED:20260421T162820
LOCATION:
SUMMARY:Monthly Sunday Lunch
URL;VALUE=URI:https://www.nacchurch.org/events/monthly-sunday-lunch/2026-05
 -03
ATTACH;FILENAME=Eritrean food.jpg;FMTTYPE=image/jpeg:https://dq5pwpg1q8ru0.
 cloudfront.net/2026/04/21/23/21/38/75fdd88b-d4e2-4330-8911-3970684c399c/Er
 itrean%20food.jpg
END:VEVENT
END:VCALENDAR
