BEGIN:VCALENDAR
VERSION:2.0
PRODID:icalendar-ruby
CALSCALE:GREGORIAN
METHOD:PUBLISH
BEGIN:VEVENT
DTSTAMP:20260425T003503Z
UID:396-4294322@nacchurch.org
DTSTART:20261103T160000Z
DTEND:20261103T170000Z
CLASS:PUBLIC
CREATED:20260424T171741
DESCRIPTION:Korean Prayer
LAST-MODIFIED:20260424T171741
LOCATION:sanctuary
SUMMARY:Korean Prayer
URL;VALUE=URI:https://www.nacchurch.org/events/korean-prayer--396/2026-11-0
 3
END:VEVENT
END:VCALENDAR
