BEGIN:VCALENDAR
VERSION:2.0
PRODID:icalendar-ruby
CALSCALE:GREGORIAN
METHOD:PUBLISH
BEGIN:VEVENT
DTSTAMP:20260424T224558Z
UID:396-4291989@nacchurch.org
DTSTART:20261027T150000Z
DTEND:20261027T160000Z
CLASS:PUBLIC
CREATED:20260424T142954
DESCRIPTION:Korean Prayer
LAST-MODIFIED:20260424T142954
LOCATION:sanctuary
SUMMARY:Korean Prayer
URL;VALUE=URI:https://www.nacchurch.org/events/korean-prayer--396/2026-10-2
 7
END:VEVENT
END:VCALENDAR
