BEGIN:VCALENDAR
VERSION:2.0
PRODID:icalendar-ruby
CALSCALE:GREGORIAN
METHOD:PUBLISH
BEGIN:VEVENT
DTSTAMP:20260424T161109Z
UID:396-4287321@nacchurch.org
DTSTART:20260929T150000Z
DTEND:20260929T160000Z
CLASS:PUBLIC
CREATED:20260424T085630
DESCRIPTION:Korean Prayer
LAST-MODIFIED:20260424T085630
LOCATION:sanctuary
SUMMARY:Korean Prayer
URL;VALUE=URI:https://www.nacchurch.org/events/korean-prayer--396/2026-09-2
 9
END:VEVENT
END:VCALENDAR
