BEGIN:VCALENDAR
VERSION:2.0
PRODID:icalendar-ruby
CALSCALE:GREGORIAN
METHOD:PUBLISH
BEGIN:VEVENT
DTSTAMP:20260424T212827Z
UID:418-4290023@nacchurch.org
DTSTART:20261031T170000Z
DTEND:20261031T200000Z
CLASS:PUBLIC
CREATED:20260424T114154
DESCRIPTION:
LAST-MODIFIED:20260424T114154
LOCATION:sanctuary
SUMMARY:Chinese Service
URL;VALUE=URI:https://www.nacchurch.org/events/chinese-service/2026-10-31
END:VEVENT
END:VCALENDAR
