BEGIN:VCALENDAR
VERSION:2.0
PRODID:icalendar-ruby
CALSCALE:GREGORIAN
METHOD:PUBLISH
BEGIN:VEVENT
DTSTAMP:20260424T180510Z
UID:418-4287689@nacchurch.org
DTSTART:20261017T170000Z
DTEND:20261017T200000Z
CLASS:PUBLIC
CREATED:20260424T085631
DESCRIPTION:
LAST-MODIFIED:20260424T085631
LOCATION:sanctuary
SUMMARY:Chinese Service
URL;VALUE=URI:https://www.nacchurch.org/events/chinese-service/2026-10-17
END:VEVENT
END:VCALENDAR
