BEGIN:VCALENDAR
VERSION:2.0
PRODID:icalendar-ruby
CALSCALE:GREGORIAN
METHOD:PUBLISH
BEGIN:VEVENT
DTSTAMP:20260422T150853Z
UID:509-4250396@nacchurch.org
DTSTART:20260524T160000Z
DTEND:20260524T220000Z
CLASS:PUBLIC
CREATED:20260421T160536
DESCRIPTION: All Day Church — Coming May 24!\nWhat if church didn’t end
  after one hour?\nJoin us on Sunday\, May 24 for All Day Church—a relaxe
 d\, come‑and‑go Sunday designed for connection\, conversation\, and co
 mmunity.\nWe’ll begin as usual with our worship service\, followed by co
 ffee fellowship (because coffee matters ). Around 12:00 noon\, we’ll sha
 re lunch—BYO lunch (bring your own)\, with the option to share at your t
 able if you wish.\nAfter lunch\, stay as long—or as little—as you like
 ! Activities may include:\n\nSinging and sermon reflection at your table\n
 Testimonies and meaningful conversations\nWatching a short film with discu
 ssion\nPrayer walks and walks to Deer Lake or nearby trails\nBoard games\,
  sports\, and relaxed hang‑out time\n\n No pressure. No obligation. Come
  and go anytime.\nFull details will be shared in our next e‑News—but f
 or now\, mark your calendar and get intrigued!\nLooking forward to May 24 
 — All Day Church! 
LAST-MODIFIED:20260421T160536
LOCATION:
SUMMARY:All Day Church
URL;VALUE=URI:https://www.nacchurch.org/events/all-day-church/2026-05-24
ATTACH;FILENAME=Design (1).png;FMTTYPE=image/png:https://dq5pwpg1q8ru0.clou
 dfront.net/2026/04/21/23/05/36/a66444b6-b843-4a81-b06e-921c3d83238d/Design
 %20(1).png
END:VEVENT
END:VCALENDAR
